BEGIN:VCALENDAR
VERSION:2.0
PRODID:-//Tukios.com/
BEGIN:VEVENT
UID:2746689b-68a6-4af0-8075-cefcc2b07cc6@www.cmbrownfh.com
DTSTAMP:20260420T221829Z
DTSTART:20260425T173000Z
DTEND:20260425T180000Z
SUMMARY:Burial
DESCRIPTION:
URL:https://www.cmbrownfh.com/obituaries/ruby-jones
LOCATION:  Old Field Cemetery Road   GA 31513
GEO:31.8233885;-82.2443948
END:VEVENT
END:VCALENDAR