BEGIN:VCALENDAR
VERSION:2.0
PRODID:-//Tukios.com/
BEGIN:VEVENT
UID:e3becbf7-49a5-4038-998f-12426e688b59@www.cmbrownfh.com
DTSTAMP:20260420T221921Z
DTSTART:20260425T180000Z
DTEND:20260425T193000Z
SUMMARY:Funeral Service
DESCRIPTION:
URL:https://www.cmbrownfh.com/obituaries/ruby-jones
LOCATION: 355 Sursson Street  Baxley GA 31513
GEO:31.7899333;-82.3427528
END:VEVENT
END:VCALENDAR