BEGIN:VCALENDAR
VERSION:2.0
PRODID:-//Tukios.com/
BEGIN:VEVENT
UID:c9a6dccf-144c-47c4-a228-68ddf327dba1@www.cmbrownfh.com
DTSTAMP:20260420T222207Z
DTSTART:20260424T210000Z
DTEND:20260424T230000Z
SUMMARY:Viewing
DESCRIPTION:
URL:https://www.cmbrownfh.com/obituaries/ruby-jones
LOCATION: 355 Sursson Street  Baxley GA 31513
GEO:31.7899333;-82.3427528
END:VEVENT
END:VCALENDAR